BEGIN:VCALENDAR
VERSION:2.0
PRODID:-//Association of 16mm Narrow Gauge Modellers - ECPv6.15.20//NONSGML v1.0//EN
CALSCALE:GREGORIAN
METHOD:PUBLISH
X-WR-CALNAME:Association of 16mm Narrow Gauge Modellers
X-ORIGINAL-URL:https://www.16mm.org.uk
X-WR-CALDESC:Events for Association of 16mm Narrow Gauge Modellers
REFRESH-INTERVAL;VALUE=DURATION:PT1H
X-Robots-Tag:noindex
X-PUBLISHED-TTL:PT1H
BEGIN:VTIMEZONE
TZID:Europe/London
BEGIN:DAYLIGHT
TZOFFSETFROM:+0000
TZOFFSETTO:+0100
TZNAME:BST
DTSTART:20170326T010000
END:DAYLIGHT
BEGIN:STANDARD
TZOFFSETFROM:+0100
TZOFFSETTO:+0000
TZNAME:GMT
DTSTART:20171029T010000
END:STANDARD
BEGIN:DAYLIGHT
TZOFFSETFROM:+0000
TZOFFSETTO:+0100
TZNAME:BST
DTSTART:20180325T010000
END:DAYLIGHT
BEGIN:STANDARD
TZOFFSETFROM:+0100
TZOFFSETTO:+0000
TZNAME:GMT
DTSTART:20181028T010000
END:STANDARD
BEGIN:DAYLIGHT
TZOFFSETFROM:+0000
TZOFFSETTO:+0100
TZNAME:BST
DTSTART:20190331T010000
END:DAYLIGHT
BEGIN:STANDARD
TZOFFSETFROM:+0100
TZOFFSETTO:+0000
TZNAME:GMT
DTSTART:20191027T010000
END:STANDARD
BEGIN:DAYLIGHT
TZOFFSETFROM:+0000
TZOFFSETTO:+0100
TZNAME:BST
DTSTART:20200329T010000
END:DAYLIGHT
BEGIN:STANDARD
TZOFFSETFROM:+0100
TZOFFSETTO:+0000
TZNAME:GMT
DTSTART:20201025T010000
END:STANDARD
END:VTIMEZONE
BEGIN:VEVENT
DTSTART;TZID=Europe/London:20190914T100000
DTEND;TZID=Europe/London:20190914T163000
DTSTAMP:20260419T192600
CREATED:20190202T105651Z
LAST-MODIFIED:20190202T105651Z
UID:10000231-1568455200-1568478600@www.16mm.org.uk
SUMMARY:Wiltshire Model Steam Gala (previously the White Horse Model Engineering and Garden Railway Show)
DESCRIPTION:
URL:https://www.16mm.org.uk/event/wiltshire-model-steam-gala-previously-the-white-horse-model-engineering-and-garden-railway-show/
LOCATION:White Horse Country Park\, Coach Road\, Westbury\, Wiltshire\, BA13 4LX\, United Kingdom
ORGANIZER;CN="West Wiltshire Society of Model Engineers":MAILTO:Barry Statham, barrystatham@blueyonder.co.uk
GEO:51.268417;-2.1741445
X-APPLE-STRUCTURED-LOCATION;VALUE=URI;X-ADDRESS=White Horse Country Park Coach Road Westbury Wiltshire BA13 4LX United Kingdom;X-APPLE-RADIUS=500;X-TITLE=Coach Road:geo:-2.1741445,51.268417
END:VEVENT
BEGIN:VEVENT
DTSTART;TZID=Europe/London:20180909T100000
DTEND;TZID=Europe/London:20180909T160000
DTSTAMP:20260419T192600
CREATED:20180118T071919Z
LAST-MODIFIED:20180118T071919Z
UID:10000181-1536487200-1536508800@www.16mm.org.uk
SUMMARY:White Horse Model Engineering and Garden Railway Show
DESCRIPTION:
URL:https://www.16mm.org.uk/event/white-horse-model-engineering-garden-railway-show-2/
LOCATION:White Horse Country Park\, Coach Road\, Westbury\, Wiltshire\, BA13 4LX\, United Kingdom
ORGANIZER;CN="West Wiltshire Society of Model Engineers":MAILTO:Barry Statham, barrystatham@blueyonder.co.uk
GEO:51.268417;-2.1741445
X-APPLE-STRUCTURED-LOCATION;VALUE=URI;X-ADDRESS=White Horse Country Park Coach Road Westbury Wiltshire BA13 4LX United Kingdom;X-APPLE-RADIUS=500;X-TITLE=Coach Road:geo:-2.1741445,51.268417
END:VEVENT
END:VCALENDAR