BEGIN:VCALENDAR
VERSION:2.0
PRODID:-//Association of 16mm Narrow Gauge Modellers - ECPv6.15.20//NONSGML v1.0//EN
CALSCALE:GREGORIAN
METHOD:PUBLISH
X-WR-CALNAME:Association of 16mm Narrow Gauge Modellers
X-ORIGINAL-URL:https://www.16mm.org.uk
X-WR-CALDESC:Events for Association of 16mm Narrow Gauge Modellers
REFRESH-INTERVAL;VALUE=DURATION:PT1H
X-Robots-Tag:noindex
X-PUBLISHED-TTL:PT1H
BEGIN:VTIMEZONE
TZID:Europe/London
BEGIN:DAYLIGHT
TZOFFSETFROM:+0000
TZOFFSETTO:+0100
TZNAME:BST
DTSTART:20170326T010000
END:DAYLIGHT
BEGIN:STANDARD
TZOFFSETFROM:+0100
TZOFFSETTO:+0000
TZNAME:GMT
DTSTART:20171029T010000
END:STANDARD
BEGIN:DAYLIGHT
TZOFFSETFROM:+0000
TZOFFSETTO:+0100
TZNAME:BST
DTSTART:20180325T010000
END:DAYLIGHT
BEGIN:STANDARD
TZOFFSETFROM:+0100
TZOFFSETTO:+0000
TZNAME:GMT
DTSTART:20181028T010000
END:STANDARD
BEGIN:DAYLIGHT
TZOFFSETFROM:+0000
TZOFFSETTO:+0100
TZNAME:BST
DTSTART:20190331T010000
END:DAYLIGHT
BEGIN:STANDARD
TZOFFSETFROM:+0100
TZOFFSETTO:+0000
TZNAME:GMT
DTSTART:20191027T010000
END:STANDARD
BEGIN:DAYLIGHT
TZOFFSETFROM:+0000
TZOFFSETTO:+0100
TZNAME:BST
DTSTART:20200329T010000
END:DAYLIGHT
BEGIN:STANDARD
TZOFFSETFROM:+0100
TZOFFSETTO:+0000
TZNAME:GMT
DTSTART:20201025T010000
END:STANDARD
BEGIN:DAYLIGHT
TZOFFSETFROM:+0000
TZOFFSETTO:+0100
TZNAME:BST
DTSTART:20210328T010000
END:DAYLIGHT
BEGIN:STANDARD
TZOFFSETFROM:+0100
TZOFFSETTO:+0000
TZNAME:GMT
DTSTART:20211031T010000
END:STANDARD
END:VTIMEZONE
BEGIN:VEVENT
DTSTART;TZID=Europe/London:20201003T100000
DTEND;TZID=Europe/London:20201003T160000
DTSTAMP:20260419T185256
CREATED:20200124T192226Z
LAST-MODIFIED:20200730T154925Z
UID:10000267-1601719200-1601740800@www.16mm.org.uk
SUMMARY:CANCELLED: All Day Steam-Up
DESCRIPTION:
URL:https://www.16mm.org.uk/event/all-day-steam-up-3-2020-10-03/2020-10-03/
LOCATION:de Stafford School\, Burntwood Lane\, Caterham\, Surrey\, CR3 5YX\, United Kingdom
GEO:51.2937033;-0.0787119
X-APPLE-STRUCTURED-LOCATION;VALUE=URI;X-ADDRESS=de Stafford School Burntwood Lane Caterham Surrey CR3 5YX United Kingdom;X-APPLE-RADIUS=500;X-TITLE=Burntwood Lane:geo:-0.0787119,51.2937033
END:VEVENT
BEGIN:VEVENT
DTSTART;TZID=Europe/London:20191005T100000
DTEND;TZID=Europe/London:20191005T160000
DTSTAMP:20260419T185256
CREATED:20190118T221332Z
LAST-MODIFIED:20190118T221332Z
UID:10000226-1570269600-1570291200@www.16mm.org.uk
SUMMARY:All-Day Steam-Up
DESCRIPTION:
URL:https://www.16mm.org.uk/event/all-day-steam-up-2/
LOCATION:de Stafford School\, Burntwood Lane\, Caterham\, Surrey\, CR3 5YX\, United Kingdom
GEO:51.2937033;-0.0787119
X-APPLE-STRUCTURED-LOCATION;VALUE=URI;X-ADDRESS=de Stafford School Burntwood Lane Caterham Surrey CR3 5YX United Kingdom;X-APPLE-RADIUS=500;X-TITLE=Burntwood Lane:geo:-0.0787119,51.2937033
END:VEVENT
BEGIN:VEVENT
DTSTART;TZID=Europe/London:20190302T100000
DTEND;TZID=Europe/London:20190302T160000
DTSTAMP:20260419T185256
CREATED:20190118T221147Z
LAST-MODIFIED:20190118T221147Z
UID:10000224-1551520800-1551542400@www.16mm.org.uk
SUMMARY:All-Day Steam-Up
DESCRIPTION:
URL:https://www.16mm.org.uk/event/all-day-steam-up/
LOCATION:de Stafford School\, Burntwood Lane\, Caterham\, Surrey\, CR3 5YX\, United Kingdom
GEO:51.2937033;-0.0787119
X-APPLE-STRUCTURED-LOCATION;VALUE=URI;X-ADDRESS=de Stafford School Burntwood Lane Caterham Surrey CR3 5YX United Kingdom;X-APPLE-RADIUS=500;X-TITLE=Burntwood Lane:geo:-0.0787119,51.2937033
END:VEVENT
BEGIN:VEVENT
DTSTART;TZID=Europe/London:20180929T100000
DTEND;TZID=Europe/London:20180929T160000
DTSTAMP:20260419T185256
CREATED:20180718T142346Z
LAST-MODIFIED:20180718T142346Z
UID:10000208-1538215200-1538236800@www.16mm.org.uk
SUMMARY:East Surrey All-Day Steam-Up
DESCRIPTION:
URL:https://www.16mm.org.uk/event/east-surrey-all-day-steam-up/
LOCATION:de Stafford School\, Burntwood Lane\, Caterham\, Surrey\, CR3 5YX\, United Kingdom
GEO:51.2937033;-0.0787119
X-APPLE-STRUCTURED-LOCATION;VALUE=URI;X-ADDRESS=de Stafford School Burntwood Lane Caterham Surrey CR3 5YX United Kingdom;X-APPLE-RADIUS=500;X-TITLE=Burntwood Lane:geo:-0.0787119,51.2937033
END:VEVENT
END:VCALENDAR