BEGIN:VCALENDAR
VERSION:2.0
PRODID:-//Association of 16mm Narrow Gauge Modellers - ECPv6.15.20//NONSGML v1.0//EN
CALSCALE:GREGORIAN
METHOD:PUBLISH
X-ORIGINAL-URL:https://www.16mm.org.uk
X-WR-CALDESC:Events for Association of 16mm Narrow Gauge Modellers
REFRESH-INTERVAL;VALUE=DURATION:PT1H
X-Robots-Tag:noindex
X-PUBLISHED-TTL:PT1H
BEGIN:VTIMEZONE
TZID:Europe/London
BEGIN:DAYLIGHT
TZOFFSETFROM:+0000
TZOFFSETTO:+0100
TZNAME:BST
DTSTART:20170326T010000
END:DAYLIGHT
BEGIN:STANDARD
TZOFFSETFROM:+0100
TZOFFSETTO:+0000
TZNAME:GMT
DTSTART:20171029T010000
END:STANDARD
BEGIN:DAYLIGHT
TZOFFSETFROM:+0000
TZOFFSETTO:+0100
TZNAME:BST
DTSTART:20180325T010000
END:DAYLIGHT
BEGIN:STANDARD
TZOFFSETFROM:+0100
TZOFFSETTO:+0000
TZNAME:GMT
DTSTART:20181028T010000
END:STANDARD
BEGIN:DAYLIGHT
TZOFFSETFROM:+0000
TZOFFSETTO:+0100
TZNAME:BST
DTSTART:20190331T010000
END:DAYLIGHT
BEGIN:STANDARD
TZOFFSETFROM:+0100
TZOFFSETTO:+0000
TZNAME:GMT
DTSTART:20191027T010000
END:STANDARD
BEGIN:DAYLIGHT
TZOFFSETFROM:+0000
TZOFFSETTO:+0100
TZNAME:BST
DTSTART:20200329T010000
END:DAYLIGHT
BEGIN:STANDARD
TZOFFSETFROM:+0100
TZOFFSETTO:+0000
TZNAME:GMT
DTSTART:20201025T010000
END:STANDARD
BEGIN:DAYLIGHT
TZOFFSETFROM:+0000
TZOFFSETTO:+0100
TZNAME:BST
DTSTART:20210328T010000
END:DAYLIGHT
BEGIN:STANDARD
TZOFFSETFROM:+0100
TZOFFSETTO:+0000
TZNAME:GMT
DTSTART:20211031T010000
END:STANDARD
BEGIN:DAYLIGHT
TZOFFSETFROM:+0000
TZOFFSETTO:+0100
TZNAME:BST
DTSTART:20220327T010000
END:DAYLIGHT
BEGIN:STANDARD
TZOFFSETFROM:+0100
TZOFFSETTO:+0000
TZNAME:GMT
DTSTART:20221030T010000
END:STANDARD
BEGIN:DAYLIGHT
TZOFFSETFROM:+0000
TZOFFSETTO:+0100
TZNAME:BST
DTSTART:20230326T010000
END:DAYLIGHT
BEGIN:STANDARD
TZOFFSETFROM:+0100
TZOFFSETTO:+0000
TZNAME:GMT
DTSTART:20231029T010000
END:STANDARD
BEGIN:DAYLIGHT
TZOFFSETFROM:+0000
TZOFFSETTO:+0100
TZNAME:BST
DTSTART:20240331T010000
END:DAYLIGHT
BEGIN:STANDARD
TZOFFSETFROM:+0100
TZOFFSETTO:+0000
TZNAME:GMT
DTSTART:20241027T010000
END:STANDARD
BEGIN:DAYLIGHT
TZOFFSETFROM:+0000
TZOFFSETTO:+0100
TZNAME:BST
DTSTART:20250330T010000
END:DAYLIGHT
BEGIN:STANDARD
TZOFFSETFROM:+0100
TZOFFSETTO:+0000
TZNAME:GMT
DTSTART:20251026T010000
END:STANDARD
BEGIN:DAYLIGHT
TZOFFSETFROM:+0000
TZOFFSETTO:+0100
TZNAME:BST
DTSTART:20260329T010000
END:DAYLIGHT
BEGIN:STANDARD
TZOFFSETFROM:+0100
TZOFFSETTO:+0000
TZNAME:GMT
DTSTART:20261025T010000
END:STANDARD
END:VTIMEZONE
BEGIN:VEVENT
DTSTART;TZID=Europe/London:20250927T100000
DTEND;TZID=Europe/London:20250927T160000
DTSTAMP:20260419T153123
CREATED:20250516T151900Z
LAST-MODIFIED:20250814T150954Z
UID:10000362-1758967200-1758988800@www.16mm.org.uk
SUMMARY:The Yorkshire Garden Railway Show
DESCRIPTION:
URL:https://www.16mm.org.uk/event/the-yorkshire-garden-railway-show-3/
LOCATION:Barrow Hill Roundhouse\, Railway Centre\, Campbell Drive\, Barrow Hill\, Chesterfield\, Derbyshire\, S43 2PR\, United Kingdom
END:VEVENT
BEGIN:VEVENT
DTSTART;TZID=Europe/London:20240928T100000
DTEND;TZID=Europe/London:20240928T160000
DTSTAMP:20260419T153123
CREATED:20240709T191834Z
LAST-MODIFIED:20240709T191834Z
UID:10000352-1727517600-1727539200@www.16mm.org.uk
SUMMARY:The Yorkshire Garden Railway Show 2024
DESCRIPTION:
URL:https://www.16mm.org.uk/event/the-yorkshire-garden-railway-show-2024/
LOCATION:Barrow Hill Roundhouse\, Railway Centre\, Campbell Drive\, Barrow Hill\, Chesterfield\, Derbyshire\, S43 2PR\, United Kingdom
END:VEVENT
BEGIN:VEVENT
DTSTART;TZID=Europe/London:20230930T100000
DTEND;TZID=Europe/London:20230930T160000
DTSTAMP:20260419T153123
CREATED:20230627T194714Z
LAST-MODIFIED:20230627T194714Z
UID:10000315-1696068000-1696089600@www.16mm.org.uk
SUMMARY:The Yorkshire Garden Railway Show 2023 (On Tour)
DESCRIPTION:
URL:https://www.16mm.org.uk/event/the-yorkshire-garden-railway-show-2023-on-tour/
LOCATION:Barrow Hill Roundhouse\, Railway Centre\, Campbell Drive\, Barrow Hill\, Chesterfield\, Derbyshire\, S43 2PR\, United Kingdom
END:VEVENT
BEGIN:VEVENT
DTSTART;TZID=Europe/London:20220910T100000
DTEND;TZID=Europe/London:20220910T160000
DTSTAMP:20260419T153123
CREATED:20220301T220920Z
LAST-MODIFIED:20220301T221019Z
UID:10000291-1662804000-1662825600@www.16mm.org.uk
SUMMARY:The Yorkshire Garden Railway Show
DESCRIPTION:
URL:https://www.16mm.org.uk/event/the-yorkshire-garden-railway-show-2/
LOCATION:Elsecar Heritage Centre\, Wath Road\, Elsecar\, Barnsley\, S74 8HJ\, United Kingdom
GEO:53.4967753;-1.4179378
X-APPLE-STRUCTURED-LOCATION;VALUE=URI;X-ADDRESS=Elsecar Heritage Centre Wath Road Elsecar Barnsley S74 8HJ United Kingdom;X-APPLE-RADIUS=500;X-TITLE=Wath Road:geo:-1.4179378,53.4967753
END:VEVENT
BEGIN:VEVENT
DTSTART;TZID=Europe/London:20200926T100000
DTEND;TZID=Europe/London:20200926T163000
DTSTAMP:20260419T153123
CREATED:20200131T140316Z
LAST-MODIFIED:20200713T122250Z
UID:10000269-1601114400-1601137800@www.16mm.org.uk
SUMMARY:CANCELLED: The Yorkshire Garden Railway Show
DESCRIPTION:
URL:https://www.16mm.org.uk/event/the-yorkshire-garden-railway-show/
LOCATION:Elsecar Heritage Centre\, Wath Road\, Elsecar\, Barnsley\, S74 8HJ\, United Kingdom
GEO:53.4967753;-1.4179378
X-APPLE-STRUCTURED-LOCATION;VALUE=URI;X-ADDRESS=Elsecar Heritage Centre Wath Road Elsecar Barnsley S74 8HJ United Kingdom;X-APPLE-RADIUS=500;X-TITLE=Wath Road:geo:-1.4179378,53.4967753
END:VEVENT
BEGIN:VEVENT
DTSTART;TZID=Europe/London:20200926T080000
DTEND;TZID=Europe/London:20201004T170000
DTSTAMP:20260419T153123
CREATED:20200713T122417Z
LAST-MODIFIED:20200713T122417Z
UID:10000214-1601107200-1601830800@www.16mm.org.uk
SUMMARY:Virtual Yorkshire Garden Railway Show
DESCRIPTION:
URL:https://www.16mm.org.uk/event/virtual-yorkshire-garden-railway-show/
END:VEVENT
BEGIN:VEVENT
DTSTART;TZID=Europe/London:20190928T100000
DTEND;TZID=Europe/London:20190928T163000
DTSTAMP:20260419T153123
CREATED:20190123T135626Z
LAST-MODIFIED:20190123T135626Z
UID:10000228-1569664800-1569688200@www.16mm.org.uk
SUMMARY:Yorkshire Garden Railway Show
DESCRIPTION:
URL:https://www.16mm.org.uk/event/yorkshire-garden-railway-show-2/
LOCATION:Elsecar Heritage Centre\, Wath Road\, Elsecar\, Barnsley\, S74 8HJ\, United Kingdom
GEO:53.4967753;-1.4179378
X-APPLE-STRUCTURED-LOCATION;VALUE=URI;X-ADDRESS=Elsecar Heritage Centre Wath Road Elsecar Barnsley S74 8HJ United Kingdom;X-APPLE-RADIUS=500;X-TITLE=Wath Road:geo:-1.4179378,53.4967753
END:VEVENT
BEGIN:VEVENT
DTSTART;TZID=Europe/London:20181007T100000
DTEND;TZID=Europe/London:20181007T160000
DTSTAMP:20260419T153123
CREATED:20171224T223118Z
LAST-MODIFIED:20171224T223118Z
UID:10000017-1538906400-1538928000@www.16mm.org.uk
SUMMARY:Yorkshire Garden Railway Show
DESCRIPTION:
URL:https://www.16mm.org.uk/event/yorkshire-garden-railway-show/2018-10-07/
LOCATION:Richard Dunn Sports Centre\, Bradford\, Richard Dunn Sports Centre\, Bradford\, BD6 1EZ\, United Kingdom
GEO:53.7664562;-1.7589191
X-APPLE-STRUCTURED-LOCATION;VALUE=URI;X-ADDRESS=Richard Dunn Sports Centre Bradford Richard Dunn Sports Centre Bradford BD6 1EZ United Kingdom;X-APPLE-RADIUS=500;X-TITLE=Richard Dunn Sports Centre:geo:-1.7589191,53.7664562
END:VEVENT
BEGIN:VEVENT
DTSTART;TZID=Europe/London:20181006T100000
DTEND;TZID=Europe/London:20181006T163000
DTSTAMP:20260419T153123
CREATED:20171224T223118Z
LAST-MODIFIED:20171224T223118Z
UID:10000016-1538820000-1538843400@www.16mm.org.uk
SUMMARY:Yorkshire Garden Railway Show
DESCRIPTION:
URL:https://www.16mm.org.uk/event/yorkshire-garden-railway-show/2018-10-06/
LOCATION:Richard Dunn Sports Centre\, Bradford\, Richard Dunn Sports Centre\, Bradford\, BD6 1EZ\, United Kingdom
GEO:53.7664562;-1.7589191
X-APPLE-STRUCTURED-LOCATION;VALUE=URI;X-ADDRESS=Richard Dunn Sports Centre Bradford Richard Dunn Sports Centre Bradford BD6 1EZ United Kingdom;X-APPLE-RADIUS=500;X-TITLE=Richard Dunn Sports Centre:geo:-1.7589191,53.7664562
END:VEVENT
END:VCALENDAR