BEGIN:VCALENDAR
VERSION:2.0
PRODID:-//Association of 16mm Narrow Gauge Modellers - ECPv6.15.20//NONSGML v1.0//EN
CALSCALE:GREGORIAN
METHOD:PUBLISH
X-WR-CALNAME:Association of 16mm Narrow Gauge Modellers
X-ORIGINAL-URL:https://www.16mm.org.uk
X-WR-CALDESC:Events for Association of 16mm Narrow Gauge Modellers
REFRESH-INTERVAL;VALUE=DURATION:PT1H
X-Robots-Tag:noindex
X-PUBLISHED-TTL:PT1H
BEGIN:VTIMEZONE
TZID:Europe/London
BEGIN:DAYLIGHT
TZOFFSETFROM:+0000
TZOFFSETTO:+0100
TZNAME:BST
DTSTART:20180325T010000
END:DAYLIGHT
BEGIN:STANDARD
TZOFFSETFROM:+0100
TZOFFSETTO:+0000
TZNAME:GMT
DTSTART:20181028T010000
END:STANDARD
BEGIN:DAYLIGHT
TZOFFSETFROM:+0000
TZOFFSETTO:+0100
TZNAME:BST
DTSTART:20190331T010000
END:DAYLIGHT
BEGIN:STANDARD
TZOFFSETFROM:+0100
TZOFFSETTO:+0000
TZNAME:GMT
DTSTART:20191027T010000
END:STANDARD
BEGIN:DAYLIGHT
TZOFFSETFROM:+0000
TZOFFSETTO:+0100
TZNAME:BST
DTSTART:20200329T010000
END:DAYLIGHT
BEGIN:STANDARD
TZOFFSETFROM:+0100
TZOFFSETTO:+0000
TZNAME:GMT
DTSTART:20201025T010000
END:STANDARD
BEGIN:DAYLIGHT
TZOFFSETFROM:+0000
TZOFFSETTO:+0100
TZNAME:BST
DTSTART:20210328T010000
END:DAYLIGHT
BEGIN:STANDARD
TZOFFSETFROM:+0100
TZOFFSETTO:+0000
TZNAME:GMT
DTSTART:20211031T010000
END:STANDARD
BEGIN:DAYLIGHT
TZOFFSETFROM:+0000
TZOFFSETTO:+0100
TZNAME:BST
DTSTART:20220327T010000
END:DAYLIGHT
BEGIN:STANDARD
TZOFFSETFROM:+0100
TZOFFSETTO:+0000
TZNAME:GMT
DTSTART:20221030T010000
END:STANDARD
BEGIN:DAYLIGHT
TZOFFSETFROM:+0000
TZOFFSETTO:+0100
TZNAME:BST
DTSTART:20230326T010000
END:DAYLIGHT
BEGIN:STANDARD
TZOFFSETFROM:+0100
TZOFFSETTO:+0000
TZNAME:GMT
DTSTART:20231029T010000
END:STANDARD
BEGIN:DAYLIGHT
TZOFFSETFROM:+0000
TZOFFSETTO:+0100
TZNAME:BST
DTSTART:20240331T010000
END:DAYLIGHT
BEGIN:STANDARD
TZOFFSETFROM:+0100
TZOFFSETTO:+0000
TZNAME:GMT
DTSTART:20241027T010000
END:STANDARD
END:VTIMEZONE
BEGIN:VEVENT
DTSTART;TZID=Europe/London:20230702T100000
DTEND;TZID=Europe/London:20230702T170000
DTSTAMP:20260419T185255
CREATED:20230621T135102Z
LAST-MODIFIED:20230621T135102Z
UID:10000314-1688292000-1688317200@www.16mm.org.uk
SUMMARY:Stoke Park Railway Gala Weekend
DESCRIPTION:
URL:https://www.16mm.org.uk/event/stoke-park-railway-gala-weekend-4/2023-07-02/
LOCATION:Guildford Model Engineering Society\, Stoke Park\, London Road\, Guildford\, GU1 1TU\, United Kingdom
ORGANIZER;CN="Guildford Model Engineering Society":MAILTO:Mike Sleigh GMES PR Officer, pr@gmes.org.uk
GEO:51.245128;-0.559509
X-APPLE-STRUCTURED-LOCATION;VALUE=URI;X-ADDRESS=Guildford Model Engineering Society Stoke Park London Road Guildford GU1 1TU United Kingdom;X-APPLE-RADIUS=500;X-TITLE=Stoke Park\, London Road:geo:-0.559509,51.245128
END:VEVENT
BEGIN:VEVENT
DTSTART;TZID=Europe/London:20230701T100000
DTEND;TZID=Europe/London:20230701T170000
DTSTAMP:20260419T185255
CREATED:20230621T135102Z
LAST-MODIFIED:20230621T135102Z
UID:10000313-1688205600-1688230800@www.16mm.org.uk
SUMMARY:Stoke Park Railway Gala Weekend
DESCRIPTION:
URL:https://www.16mm.org.uk/event/stoke-park-railway-gala-weekend-4/2023-07-01/
LOCATION:Guildford Model Engineering Society\, Stoke Park\, London Road\, Guildford\, GU1 1TU\, United Kingdom
ORGANIZER;CN="Guildford Model Engineering Society":MAILTO:Mike Sleigh GMES PR Officer, pr@gmes.org.uk
GEO:51.245128;-0.559509
X-APPLE-STRUCTURED-LOCATION;VALUE=URI;X-ADDRESS=Guildford Model Engineering Society Stoke Park London Road Guildford GU1 1TU United Kingdom;X-APPLE-RADIUS=500;X-TITLE=Stoke Park\, London Road:geo:-0.559509,51.245128
END:VEVENT
BEGIN:VEVENT
DTSTART;TZID=Europe/London:20201213T140000
DTEND;TZID=Europe/London:20201213T170000
DTSTAMP:20260419T185255
CREATED:20191119T213530Z
LAST-MODIFIED:20200604T095548Z
UID:10000251-1607868000-1607878800@www.16mm.org.uk
SUMMARY:CANCELLED: Small Model Steam Engine Group (SMSEG)
DESCRIPTION:
URL:https://www.16mm.org.uk/event/small-model-steam-engine-group-smseg-2/2020-12-13/
LOCATION:Guildford Model Engineering Society\, Stoke Park\, London Road\, Guildford\, GU1 1TU\, United Kingdom
ORGANIZER;CN="Guildford Model Engineering Society":MAILTO:Mike Sleigh GMES PR Officer, pr@gmes.org.uk
GEO:51.245128;-0.559509
X-APPLE-STRUCTURED-LOCATION;VALUE=URI;X-ADDRESS=Guildford Model Engineering Society Stoke Park London Road Guildford GU1 1TU United Kingdom;X-APPLE-RADIUS=500;X-TITLE=Stoke Park\, London Road:geo:-0.559509,51.245128
END:VEVENT
BEGIN:VEVENT
DTSTART;TZID=Europe/London:20201206T110000
DTEND;TZID=Europe/London:20201206T150000
DTSTAMP:20260419T185255
CREATED:20191119T212647Z
LAST-MODIFIED:20200604T095621Z
UID:10000262-1607252400-1607266800@www.16mm.org.uk
SUMMARY:CANCELLED: Public Open Afternoon\, Stoke Park Railway
DESCRIPTION:
URL:https://www.16mm.org.uk/event/public-open-afternoon-stoke-park-railway-3/2020-12-06/
LOCATION:Guildford Model Engineering Society\, Stoke Park\, London Road\, Guildford\, GU1 1TU\, United Kingdom
ORGANIZER;CN="Guildford Model Engineering Society":MAILTO:Mike Sleigh GMES PR Officer, pr@gmes.org.uk
GEO:51.245128;-0.559509
X-APPLE-STRUCTURED-LOCATION;VALUE=URI;X-ADDRESS=Guildford Model Engineering Society Stoke Park London Road Guildford GU1 1TU United Kingdom;X-APPLE-RADIUS=500;X-TITLE=Stoke Park\, London Road:geo:-0.559509,51.245128
END:VEVENT
BEGIN:VEVENT
DTSTART;TZID=Europe/London:20201018T140000
DTEND;TZID=Europe/London:20201018T170000
DTSTAMP:20260419T185255
CREATED:20191119T212647Z
LAST-MODIFIED:20200604T095621Z
UID:10000261-1603029600-1603040400@www.16mm.org.uk
SUMMARY:CANCELLED: Public Open Afternoon\, Stoke Park Railway
DESCRIPTION:
URL:https://www.16mm.org.uk/event/public-open-afternoon-stoke-park-railway-3/2020-10-18/
LOCATION:Guildford Model Engineering Society\, Stoke Park\, London Road\, Guildford\, GU1 1TU\, United Kingdom
ORGANIZER;CN="Guildford Model Engineering Society":MAILTO:Mike Sleigh GMES PR Officer, pr@gmes.org.uk
GEO:51.245128;-0.559509
X-APPLE-STRUCTURED-LOCATION;VALUE=URI;X-ADDRESS=Guildford Model Engineering Society Stoke Park London Road Guildford GU1 1TU United Kingdom;X-APPLE-RADIUS=500;X-TITLE=Stoke Park\, London Road:geo:-0.559509,51.245128
END:VEVENT
BEGIN:VEVENT
DTSTART;TZID=Europe/London:20201004T140000
DTEND;TZID=Europe/London:20201004T170000
DTSTAMP:20260419T185255
CREATED:20191119T213530Z
LAST-MODIFIED:20200604T095548Z
UID:10000250-1601820000-1601830800@www.16mm.org.uk
SUMMARY:CANCELLED: Small Model Steam Engine Group (SMSEG)
DESCRIPTION:
URL:https://www.16mm.org.uk/event/small-model-steam-engine-group-smseg-2/2020-10-04/
LOCATION:Guildford Model Engineering Society\, Stoke Park\, London Road\, Guildford\, GU1 1TU\, United Kingdom
ORGANIZER;CN="Guildford Model Engineering Society":MAILTO:Mike Sleigh GMES PR Officer, pr@gmes.org.uk
GEO:51.245128;-0.559509
X-APPLE-STRUCTURED-LOCATION;VALUE=URI;X-ADDRESS=Guildford Model Engineering Society Stoke Park London Road Guildford GU1 1TU United Kingdom;X-APPLE-RADIUS=500;X-TITLE=Stoke Park\, London Road:geo:-0.559509,51.245128
END:VEVENT
BEGIN:VEVENT
DTSTART;TZID=Europe/London:20200920T140000
DTEND;TZID=Europe/London:20200920T170000
DTSTAMP:20260419T185255
CREATED:20191119T212647Z
LAST-MODIFIED:20200604T095621Z
UID:10000260-1600610400-1600621200@www.16mm.org.uk
SUMMARY:CANCELLED: Public Open Afternoon\, Stoke Park Railway
DESCRIPTION:
URL:https://www.16mm.org.uk/event/public-open-afternoon-stoke-park-railway-3/2020-09-20/
LOCATION:Guildford Model Engineering Society\, Stoke Park\, London Road\, Guildford\, GU1 1TU\, United Kingdom
ORGANIZER;CN="Guildford Model Engineering Society":MAILTO:Mike Sleigh GMES PR Officer, pr@gmes.org.uk
GEO:51.245128;-0.559509
X-APPLE-STRUCTURED-LOCATION;VALUE=URI;X-ADDRESS=Guildford Model Engineering Society Stoke Park London Road Guildford GU1 1TU United Kingdom;X-APPLE-RADIUS=500;X-TITLE=Stoke Park\, London Road:geo:-0.559509,51.245128
END:VEVENT
BEGIN:VEVENT
DTSTART;TZID=Europe/London:20200816T140000
DTEND;TZID=Europe/London:20200816T170000
DTSTAMP:20260419T185255
CREATED:20191119T212647Z
LAST-MODIFIED:20200604T095621Z
UID:10000259-1597586400-1597597200@www.16mm.org.uk
SUMMARY:CANCELLED: Public Open Afternoon\, Stoke Park Railway
DESCRIPTION:
URL:https://www.16mm.org.uk/event/public-open-afternoon-stoke-park-railway-3/2020-08-16/
LOCATION:Guildford Model Engineering Society\, Stoke Park\, London Road\, Guildford\, GU1 1TU\, United Kingdom
ORGANIZER;CN="Guildford Model Engineering Society":MAILTO:Mike Sleigh GMES PR Officer, pr@gmes.org.uk
GEO:51.245128;-0.559509
X-APPLE-STRUCTURED-LOCATION;VALUE=URI;X-ADDRESS=Guildford Model Engineering Society Stoke Park London Road Guildford GU1 1TU United Kingdom;X-APPLE-RADIUS=500;X-TITLE=Stoke Park\, London Road:geo:-0.559509,51.245128
END:VEVENT
BEGIN:VEVENT
DTSTART;TZID=Europe/London:20200802T140000
DTEND;TZID=Europe/London:20200802T170000
DTSTAMP:20260419T185255
CREATED:20191119T213530Z
LAST-MODIFIED:20200604T095548Z
UID:10000249-1596376800-1596387600@www.16mm.org.uk
SUMMARY:CANCELLED: Small Model Steam Engine Group (SMSEG)
DESCRIPTION:
URL:https://www.16mm.org.uk/event/small-model-steam-engine-group-smseg-2/2020-08-02/
LOCATION:Guildford Model Engineering Society\, Stoke Park\, London Road\, Guildford\, GU1 1TU\, United Kingdom
ORGANIZER;CN="Guildford Model Engineering Society":MAILTO:Mike Sleigh GMES PR Officer, pr@gmes.org.uk
GEO:51.245128;-0.559509
X-APPLE-STRUCTURED-LOCATION;VALUE=URI;X-ADDRESS=Guildford Model Engineering Society Stoke Park London Road Guildford GU1 1TU United Kingdom;X-APPLE-RADIUS=500;X-TITLE=Stoke Park\, London Road:geo:-0.559509,51.245128
END:VEVENT
BEGIN:VEVENT
DTSTART;TZID=Europe/London:20200726T140000
DTEND;TZID=Europe/London:20200726T170000
DTSTAMP:20260419T185255
CREATED:20191119T212647Z
LAST-MODIFIED:20200604T095621Z
UID:10000258-1595772000-1595782800@www.16mm.org.uk
SUMMARY:CANCELLED: Public Open Afternoon\, Stoke Park Railway
DESCRIPTION:
URL:https://www.16mm.org.uk/event/public-open-afternoon-stoke-park-railway-3/2020-07-26/
LOCATION:Guildford Model Engineering Society\, Stoke Park\, London Road\, Guildford\, GU1 1TU\, United Kingdom
ORGANIZER;CN="Guildford Model Engineering Society":MAILTO:Mike Sleigh GMES PR Officer, pr@gmes.org.uk
GEO:51.245128;-0.559509
X-APPLE-STRUCTURED-LOCATION;VALUE=URI;X-ADDRESS=Guildford Model Engineering Society Stoke Park London Road Guildford GU1 1TU United Kingdom;X-APPLE-RADIUS=500;X-TITLE=Stoke Park\, London Road:geo:-0.559509,51.245128
END:VEVENT
BEGIN:VEVENT
DTSTART;TZID=Europe/London:20200705T100000
DTEND;TZID=Europe/London:20200705T170000
DTSTAMP:20260419T185255
CREATED:20191119T213301Z
LAST-MODIFIED:20200604T095609Z
UID:10000253-1593943200-1593968400@www.16mm.org.uk
SUMMARY:CANCELLED: Stoke Park Railway Gala Weekend
DESCRIPTION:
URL:https://www.16mm.org.uk/event/stoke-park-railway-gala-weekend-3/2020-07-05/
LOCATION:Guildford Model Engineering Society\, Stoke Park\, London Road\, Guildford\, GU1 1TU\, United Kingdom
ORGANIZER;CN="Guildford Model Engineering Society":MAILTO:Mike Sleigh GMES PR Officer, pr@gmes.org.uk
GEO:51.245128;-0.559509
X-APPLE-STRUCTURED-LOCATION;VALUE=URI;X-ADDRESS=Guildford Model Engineering Society Stoke Park London Road Guildford GU1 1TU United Kingdom;X-APPLE-RADIUS=500;X-TITLE=Stoke Park\, London Road:geo:-0.559509,51.245128
END:VEVENT
BEGIN:VEVENT
DTSTART;TZID=Europe/London:20200704T100000
DTEND;TZID=Europe/London:20200704T170000
DTSTAMP:20260419T185255
CREATED:20191119T213301Z
LAST-MODIFIED:20200604T095609Z
UID:10000252-1593856800-1593882000@www.16mm.org.uk
SUMMARY:CANCELLED: Stoke Park Railway Gala Weekend
DESCRIPTION:
URL:https://www.16mm.org.uk/event/stoke-park-railway-gala-weekend-3/2020-07-04/
LOCATION:Guildford Model Engineering Society\, Stoke Park\, London Road\, Guildford\, GU1 1TU\, United Kingdom
ORGANIZER;CN="Guildford Model Engineering Society":MAILTO:Mike Sleigh GMES PR Officer, pr@gmes.org.uk
GEO:51.245128;-0.559509
X-APPLE-STRUCTURED-LOCATION;VALUE=URI;X-ADDRESS=Guildford Model Engineering Society Stoke Park London Road Guildford GU1 1TU United Kingdom;X-APPLE-RADIUS=500;X-TITLE=Stoke Park\, London Road:geo:-0.559509,51.245128
END:VEVENT
BEGIN:VEVENT
DTSTART;TZID=Europe/London:20200614T140000
DTEND;TZID=Europe/London:20200614T170000
DTSTAMP:20260419T185255
CREATED:20191119T212647Z
LAST-MODIFIED:20200604T095621Z
UID:10000257-1592143200-1592154000@www.16mm.org.uk
SUMMARY:CANCELLED: Public Open Afternoon\, Stoke Park Railway
DESCRIPTION:
URL:https://www.16mm.org.uk/event/public-open-afternoon-stoke-park-railway-3/2020-06-14/
LOCATION:Guildford Model Engineering Society\, Stoke Park\, London Road\, Guildford\, GU1 1TU\, United Kingdom
ORGANIZER;CN="Guildford Model Engineering Society":MAILTO:Mike Sleigh GMES PR Officer, pr@gmes.org.uk
GEO:51.245128;-0.559509
X-APPLE-STRUCTURED-LOCATION;VALUE=URI;X-ADDRESS=Guildford Model Engineering Society Stoke Park London Road Guildford GU1 1TU United Kingdom;X-APPLE-RADIUS=500;X-TITLE=Stoke Park\, London Road:geo:-0.559509,51.245128
END:VEVENT
BEGIN:VEVENT
DTSTART;TZID=Europe/London:20200607T140000
DTEND;TZID=Europe/London:20200607T170000
DTSTAMP:20260419T185255
CREATED:20191119T213530Z
LAST-MODIFIED:20200604T095548Z
UID:10000248-1591538400-1591549200@www.16mm.org.uk
SUMMARY:CANCELLED: Small Model Steam Engine Group (SMSEG)
DESCRIPTION:
URL:https://www.16mm.org.uk/event/small-model-steam-engine-group-smseg-2/2020-06-07/
LOCATION:Guildford Model Engineering Society\, Stoke Park\, London Road\, Guildford\, GU1 1TU\, United Kingdom
ORGANIZER;CN="Guildford Model Engineering Society":MAILTO:Mike Sleigh GMES PR Officer, pr@gmes.org.uk
GEO:51.245128;-0.559509
X-APPLE-STRUCTURED-LOCATION;VALUE=URI;X-ADDRESS=Guildford Model Engineering Society Stoke Park London Road Guildford GU1 1TU United Kingdom;X-APPLE-RADIUS=500;X-TITLE=Stoke Park\, London Road:geo:-0.559509,51.245128
END:VEVENT
BEGIN:VEVENT
DTSTART;TZID=Europe/London:20200517T140000
DTEND;TZID=Europe/London:20200517T170000
DTSTAMP:20260419T185255
CREATED:20191119T212647Z
LAST-MODIFIED:20200604T095621Z
UID:10000256-1589724000-1589734800@www.16mm.org.uk
SUMMARY:CANCELLED: Public Open Afternoon\, Stoke Park Railway
DESCRIPTION:
URL:https://www.16mm.org.uk/event/public-open-afternoon-stoke-park-railway-3/2020-05-17/
LOCATION:Guildford Model Engineering Society\, Stoke Park\, London Road\, Guildford\, GU1 1TU\, United Kingdom
ORGANIZER;CN="Guildford Model Engineering Society":MAILTO:Mike Sleigh GMES PR Officer, pr@gmes.org.uk
GEO:51.245128;-0.559509
X-APPLE-STRUCTURED-LOCATION;VALUE=URI;X-ADDRESS=Guildford Model Engineering Society Stoke Park London Road Guildford GU1 1TU United Kingdom;X-APPLE-RADIUS=500;X-TITLE=Stoke Park\, London Road:geo:-0.559509,51.245128
END:VEVENT
BEGIN:VEVENT
DTSTART;TZID=Europe/London:20200419T140000
DTEND;TZID=Europe/London:20200419T170000
DTSTAMP:20260419T185255
CREATED:20191119T212647Z
LAST-MODIFIED:20200604T095621Z
UID:10000255-1587304800-1587315600@www.16mm.org.uk
SUMMARY:CANCELLED: Public Open Afternoon\, Stoke Park Railway
DESCRIPTION:
URL:https://www.16mm.org.uk/event/public-open-afternoon-stoke-park-railway-3/2020-04-19/
LOCATION:Guildford Model Engineering Society\, Stoke Park\, London Road\, Guildford\, GU1 1TU\, United Kingdom
ORGANIZER;CN="Guildford Model Engineering Society":MAILTO:Mike Sleigh GMES PR Officer, pr@gmes.org.uk
GEO:51.245128;-0.559509
X-APPLE-STRUCTURED-LOCATION;VALUE=URI;X-ADDRESS=Guildford Model Engineering Society Stoke Park London Road Guildford GU1 1TU United Kingdom;X-APPLE-RADIUS=500;X-TITLE=Stoke Park\, London Road:geo:-0.559509,51.245128
END:VEVENT
BEGIN:VEVENT
DTSTART;TZID=Europe/London:20200405T140000
DTEND;TZID=Europe/London:20200405T170000
DTSTAMP:20260419T185255
CREATED:20191119T213530Z
LAST-MODIFIED:20200604T095548Z
UID:10000247-1586095200-1586106000@www.16mm.org.uk
SUMMARY:CANCELLED: Small Model Steam Engine Group (SMSEG)
DESCRIPTION:
URL:https://www.16mm.org.uk/event/small-model-steam-engine-group-smseg-2/2020-04-05/
LOCATION:Guildford Model Engineering Society\, Stoke Park\, London Road\, Guildford\, GU1 1TU\, United Kingdom
ORGANIZER;CN="Guildford Model Engineering Society":MAILTO:Mike Sleigh GMES PR Officer, pr@gmes.org.uk
GEO:51.245128;-0.559509
X-APPLE-STRUCTURED-LOCATION;VALUE=URI;X-ADDRESS=Guildford Model Engineering Society Stoke Park London Road Guildford GU1 1TU United Kingdom;X-APPLE-RADIUS=500;X-TITLE=Stoke Park\, London Road:geo:-0.559509,51.245128
END:VEVENT
BEGIN:VEVENT
DTSTART;TZID=Europe/London:20200315T140000
DTEND;TZID=Europe/London:20200315T170000
DTSTAMP:20260419T185255
CREATED:20191119T212647Z
LAST-MODIFIED:20200604T095621Z
UID:10000254-1584280800-1584291600@www.16mm.org.uk
SUMMARY:CANCELLED: Public Open Afternoon\, Stoke Park Railway
DESCRIPTION:
URL:https://www.16mm.org.uk/event/public-open-afternoon-stoke-park-railway-3/2020-03-15/
LOCATION:Guildford Model Engineering Society\, Stoke Park\, London Road\, Guildford\, GU1 1TU\, United Kingdom
ORGANIZER;CN="Guildford Model Engineering Society":MAILTO:Mike Sleigh GMES PR Officer, pr@gmes.org.uk
GEO:51.245128;-0.559509
X-APPLE-STRUCTURED-LOCATION;VALUE=URI;X-ADDRESS=Guildford Model Engineering Society Stoke Park London Road Guildford GU1 1TU United Kingdom;X-APPLE-RADIUS=500;X-TITLE=Stoke Park\, London Road:geo:-0.559509,51.245128
END:VEVENT
BEGIN:VEVENT
DTSTART;TZID=Europe/London:20191208T110000
DTEND;TZID=Europe/London:20191208T150000
DTSTAMP:20260419T185255
CREATED:20181206T114302Z
LAST-MODIFIED:20181206T114302Z
UID:10000049-1575802800-1575817200@www.16mm.org.uk
SUMMARY:Stoke Park Railway Christmas Event
DESCRIPTION:
URL:https://www.16mm.org.uk/event/stoke-park-railway-christmas-event-2/
LOCATION:Guildford Model Engineering Society\, Stoke Park\, London Road\, Guildford\, GU1 1TU\, United Kingdom
ORGANIZER;CN="Guildford Model Engineering Society":MAILTO:Mike Sleigh GMES PR Officer, pr@gmes.org.uk
GEO:51.245128;-0.559509
X-APPLE-STRUCTURED-LOCATION;VALUE=URI;X-ADDRESS=Guildford Model Engineering Society Stoke Park London Road Guildford GU1 1TU United Kingdom;X-APPLE-RADIUS=500;X-TITLE=Stoke Park\, London Road:geo:-0.559509,51.245128
END:VEVENT
BEGIN:VEVENT
DTSTART;TZID=Europe/London:20191201T140000
DTEND;TZID=Europe/London:20191201T170000
DTSTAMP:20260419T185255
CREATED:20181206T113722Z
LAST-MODIFIED:20181206T113722Z
UID:10000047-1575208800-1575219600@www.16mm.org.uk
SUMMARY:Small Model Steam Engine Group (SMSEG)
DESCRIPTION:
URL:https://www.16mm.org.uk/event/small-model-steam-engine-group-smseg/2019-12-01/
LOCATION:Guildford Model Engineering Society\, Stoke Park\, London Road\, Guildford\, GU1 1TU\, United Kingdom
ORGANIZER;CN="Guildford Model Engineering Society":MAILTO:Mike Sleigh GMES PR Officer, pr@gmes.org.uk
GEO:51.245128;-0.559509
X-APPLE-STRUCTURED-LOCATION;VALUE=URI;X-ADDRESS=Guildford Model Engineering Society Stoke Park London Road Guildford GU1 1TU United Kingdom;X-APPLE-RADIUS=500;X-TITLE=Stoke Park\, London Road:geo:-0.559509,51.245128
END:VEVENT
BEGIN:VEVENT
DTSTART;TZID=Europe/London:20191020T140000
DTEND;TZID=Europe/London:20191020T170000
DTSTAMP:20260419T185255
CREATED:20181206T101108Z
LAST-MODIFIED:20181206T101108Z
UID:10000043-1571580000-1571590800@www.16mm.org.uk
SUMMARY:Public Open Afternoon\, Stoke Park Railway
DESCRIPTION:
URL:https://www.16mm.org.uk/event/public-open-afternoon-stoke-park-railway-2/2019-10-20/
LOCATION:Guildford Model Engineering Society\, Stoke Park\, London Road\, Guildford\, GU1 1TU\, United Kingdom
ORGANIZER;CN="Guildford Model Engineering Society":MAILTO:Mike Sleigh GMES PR Officer, pr@gmes.org.uk
GEO:51.245128;-0.559509
X-APPLE-STRUCTURED-LOCATION;VALUE=URI;X-ADDRESS=Guildford Model Engineering Society Stoke Park London Road Guildford GU1 1TU United Kingdom;X-APPLE-RADIUS=500;X-TITLE=Stoke Park\, London Road:geo:-0.559509,51.245128
END:VEVENT
BEGIN:VEVENT
DTSTART;TZID=Europe/London:20191006T140000
DTEND;TZID=Europe/London:20191006T170000
DTSTAMP:20260419T185255
CREATED:20181206T113722Z
LAST-MODIFIED:20181206T113722Z
UID:10000046-1570370400-1570381200@www.16mm.org.uk
SUMMARY:Small Model Steam Engine Group (SMSEG)
DESCRIPTION:
URL:https://www.16mm.org.uk/event/small-model-steam-engine-group-smseg/2019-10-06/
LOCATION:Guildford Model Engineering Society\, Stoke Park\, London Road\, Guildford\, GU1 1TU\, United Kingdom
ORGANIZER;CN="Guildford Model Engineering Society":MAILTO:Mike Sleigh GMES PR Officer, pr@gmes.org.uk
GEO:51.245128;-0.559509
X-APPLE-STRUCTURED-LOCATION;VALUE=URI;X-ADDRESS=Guildford Model Engineering Society Stoke Park London Road Guildford GU1 1TU United Kingdom;X-APPLE-RADIUS=500;X-TITLE=Stoke Park\, London Road:geo:-0.559509,51.245128
END:VEVENT
BEGIN:VEVENT
DTSTART;TZID=Europe/London:20190915T140000
DTEND;TZID=Europe/London:20190915T170000
DTSTAMP:20260419T185255
CREATED:20181206T114021Z
LAST-MODIFIED:20181206T114021Z
UID:10000048-1568556000-1568566800@www.16mm.org.uk
SUMMARY:Stoke Park Railway Charity Day
DESCRIPTION:
URL:https://www.16mm.org.uk/event/stoke-park-railway-charity-day-2/
LOCATION:Guildford Model Engineering Society\, Stoke Park\, London Road\, Guildford\, GU1 1TU\, United Kingdom
ORGANIZER;CN="Guildford Model Engineering Society":MAILTO:Mike Sleigh GMES PR Officer, pr@gmes.org.uk
GEO:51.245128;-0.559509
X-APPLE-STRUCTURED-LOCATION;VALUE=URI;X-ADDRESS=Guildford Model Engineering Society Stoke Park London Road Guildford GU1 1TU United Kingdom;X-APPLE-RADIUS=500;X-TITLE=Stoke Park\, London Road:geo:-0.559509,51.245128
END:VEVENT
BEGIN:VEVENT
DTSTART;TZID=Europe/London:20190818T140000
DTEND;TZID=Europe/London:20190818T170000
DTSTAMP:20260419T185255
CREATED:20181206T101108Z
LAST-MODIFIED:20181206T101108Z
UID:10000042-1566136800-1566147600@www.16mm.org.uk
SUMMARY:Public Open Afternoon\, Stoke Park Railway
DESCRIPTION:
URL:https://www.16mm.org.uk/event/public-open-afternoon-stoke-park-railway-2/2019-08-18/
LOCATION:Guildford Model Engineering Society\, Stoke Park\, London Road\, Guildford\, GU1 1TU\, United Kingdom
ORGANIZER;CN="Guildford Model Engineering Society":MAILTO:Mike Sleigh GMES PR Officer, pr@gmes.org.uk
GEO:51.245128;-0.559509
X-APPLE-STRUCTURED-LOCATION;VALUE=URI;X-ADDRESS=Guildford Model Engineering Society Stoke Park London Road Guildford GU1 1TU United Kingdom;X-APPLE-RADIUS=500;X-TITLE=Stoke Park\, London Road:geo:-0.559509,51.245128
END:VEVENT
BEGIN:VEVENT
DTSTART;TZID=Europe/London:20190804T140000
DTEND;TZID=Europe/London:20190804T170000
DTSTAMP:20260419T185255
CREATED:20181206T113722Z
LAST-MODIFIED:20181206T113722Z
UID:10000045-1564927200-1564938000@www.16mm.org.uk
SUMMARY:Small Model Steam Engine Group (SMSEG)
DESCRIPTION:
URL:https://www.16mm.org.uk/event/small-model-steam-engine-group-smseg/2019-08-04/
LOCATION:Guildford Model Engineering Society\, Stoke Park\, London Road\, Guildford\, GU1 1TU\, United Kingdom
ORGANIZER;CN="Guildford Model Engineering Society":MAILTO:Mike Sleigh GMES PR Officer, pr@gmes.org.uk
GEO:51.245128;-0.559509
X-APPLE-STRUCTURED-LOCATION;VALUE=URI;X-ADDRESS=Guildford Model Engineering Society Stoke Park London Road Guildford GU1 1TU United Kingdom;X-APPLE-RADIUS=500;X-TITLE=Stoke Park\, London Road:geo:-0.559509,51.245128
END:VEVENT
BEGIN:VEVENT
DTSTART;TZID=Europe/London:20190728T140000
DTEND;TZID=Europe/London:20190728T170000
DTSTAMP:20260419T185255
CREATED:20181206T101108Z
LAST-MODIFIED:20181206T101108Z
UID:10000041-1564322400-1564333200@www.16mm.org.uk
SUMMARY:Public Open Afternoon\, Stoke Park Railway
DESCRIPTION:
URL:https://www.16mm.org.uk/event/public-open-afternoon-stoke-park-railway-2/2019-07-28/
LOCATION:Guildford Model Engineering Society\, Stoke Park\, London Road\, Guildford\, GU1 1TU\, United Kingdom
ORGANIZER;CN="Guildford Model Engineering Society":MAILTO:Mike Sleigh GMES PR Officer, pr@gmes.org.uk
GEO:51.245128;-0.559509
X-APPLE-STRUCTURED-LOCATION;VALUE=URI;X-ADDRESS=Guildford Model Engineering Society Stoke Park London Road Guildford GU1 1TU United Kingdom;X-APPLE-RADIUS=500;X-TITLE=Stoke Park\, London Road:geo:-0.559509,51.245128
END:VEVENT
BEGIN:VEVENT
DTSTART;TZID=Europe/London:20190707T100000
DTEND;TZID=Europe/London:20190707T170000
DTSTAMP:20260419T185255
CREATED:20181206T114539Z
LAST-MODIFIED:20181206T114539Z
UID:10000051-1562493600-1562518800@www.16mm.org.uk
SUMMARY:Stoke Park Railway Gala Weekend
DESCRIPTION:
URL:https://www.16mm.org.uk/event/stoke-park-railway-gala-weekend-2/2019-07-07/
LOCATION:Guildford Model Engineering Society\, Stoke Park\, London Road\, Guildford\, GU1 1TU\, United Kingdom
ORGANIZER;CN="Guildford Model Engineering Society":MAILTO:Mike Sleigh GMES PR Officer, pr@gmes.org.uk
GEO:51.245128;-0.559509
X-APPLE-STRUCTURED-LOCATION;VALUE=URI;X-ADDRESS=Guildford Model Engineering Society Stoke Park London Road Guildford GU1 1TU United Kingdom;X-APPLE-RADIUS=500;X-TITLE=Stoke Park\, London Road:geo:-0.559509,51.245128
END:VEVENT
BEGIN:VEVENT
DTSTART;TZID=Europe/London:20190706T100000
DTEND;TZID=Europe/London:20190706T170000
DTSTAMP:20260419T185255
CREATED:20181206T114539Z
LAST-MODIFIED:20181206T114539Z
UID:10000050-1562407200-1562432400@www.16mm.org.uk
SUMMARY:Stoke Park Railway Gala Weekend
DESCRIPTION:
URL:https://www.16mm.org.uk/event/stoke-park-railway-gala-weekend-2/2019-07-06/
LOCATION:Guildford Model Engineering Society\, Stoke Park\, London Road\, Guildford\, GU1 1TU\, United Kingdom
ORGANIZER;CN="Guildford Model Engineering Society":MAILTO:Mike Sleigh GMES PR Officer, pr@gmes.org.uk
GEO:51.245128;-0.559509
X-APPLE-STRUCTURED-LOCATION;VALUE=URI;X-ADDRESS=Guildford Model Engineering Society Stoke Park London Road Guildford GU1 1TU United Kingdom;X-APPLE-RADIUS=500;X-TITLE=Stoke Park\, London Road:geo:-0.559509,51.245128
END:VEVENT
BEGIN:VEVENT
DTSTART;TZID=Europe/London:20190623T140000
DTEND;TZID=Europe/London:20190623T170000
DTSTAMP:20260419T185255
CREATED:20181206T101108Z
LAST-MODIFIED:20181206T101108Z
UID:10000040-1561298400-1561309200@www.16mm.org.uk
SUMMARY:Public Open Afternoon\, Stoke Park Railway
DESCRIPTION:
URL:https://www.16mm.org.uk/event/public-open-afternoon-stoke-park-railway-2/2019-06-23/
LOCATION:Guildford Model Engineering Society\, Stoke Park\, London Road\, Guildford\, GU1 1TU\, United Kingdom
ORGANIZER;CN="Guildford Model Engineering Society":MAILTO:Mike Sleigh GMES PR Officer, pr@gmes.org.uk
GEO:51.245128;-0.559509
X-APPLE-STRUCTURED-LOCATION;VALUE=URI;X-ADDRESS=Guildford Model Engineering Society Stoke Park London Road Guildford GU1 1TU United Kingdom;X-APPLE-RADIUS=500;X-TITLE=Stoke Park\, London Road:geo:-0.559509,51.245128
END:VEVENT
BEGIN:VEVENT
DTSTART;TZID=Europe/London:20190519T140000
DTEND;TZID=Europe/London:20190519T170000
DTSTAMP:20260419T185255
CREATED:20181206T101108Z
LAST-MODIFIED:20181206T101108Z
UID:10000039-1558274400-1558285200@www.16mm.org.uk
SUMMARY:Public Open Afternoon\, Stoke Park Railway
DESCRIPTION:
URL:https://www.16mm.org.uk/event/public-open-afternoon-stoke-park-railway-2/2019-05-19/
LOCATION:Guildford Model Engineering Society\, Stoke Park\, London Road\, Guildford\, GU1 1TU\, United Kingdom
ORGANIZER;CN="Guildford Model Engineering Society":MAILTO:Mike Sleigh GMES PR Officer, pr@gmes.org.uk
GEO:51.245128;-0.559509
X-APPLE-STRUCTURED-LOCATION;VALUE=URI;X-ADDRESS=Guildford Model Engineering Society Stoke Park London Road Guildford GU1 1TU United Kingdom;X-APPLE-RADIUS=500;X-TITLE=Stoke Park\, London Road:geo:-0.559509,51.245128
END:VEVENT
END:VCALENDAR