BEGIN:VCALENDAR
VERSION:2.0
PRODID:-//Association of 16mm Narrow Gauge Modellers - ECPv6.15.20//NONSGML v1.0//EN
CALSCALE:GREGORIAN
METHOD:PUBLISH
X-WR-CALNAME:Association of 16mm Narrow Gauge Modellers
X-ORIGINAL-URL:https://www.16mm.org.uk
X-WR-CALDESC:Events for Association of 16mm Narrow Gauge Modellers
REFRESH-INTERVAL;VALUE=DURATION:PT1H
X-Robots-Tag:noindex
X-PUBLISHED-TTL:PT1H
BEGIN:VTIMEZONE
TZID:Europe/London
BEGIN:DAYLIGHT
TZOFFSETFROM:+0000
TZOFFSETTO:+0100
TZNAME:BST
DTSTART:20250330T010000
END:DAYLIGHT
BEGIN:STANDARD
TZOFFSETFROM:+0100
TZOFFSETTO:+0000
TZNAME:GMT
DTSTART:20251026T010000
END:STANDARD
BEGIN:DAYLIGHT
TZOFFSETFROM:+0000
TZOFFSETTO:+0100
TZNAME:BST
DTSTART:20260329T010000
END:DAYLIGHT
BEGIN:STANDARD
TZOFFSETFROM:+0100
TZOFFSETTO:+0000
TZNAME:GMT
DTSTART:20261025T010000
END:STANDARD
BEGIN:DAYLIGHT
TZOFFSETFROM:+0000
TZOFFSETTO:+0100
TZNAME:BST
DTSTART:20270328T010000
END:DAYLIGHT
BEGIN:STANDARD
TZOFFSETFROM:+0100
TZOFFSETTO:+0000
TZNAME:GMT
DTSTART:20271031T010000
END:STANDARD
END:VTIMEZONE
BEGIN:VEVENT
DTSTART;TZID=Europe/London:20261003T100000
DTEND;TZID=Europe/London:20261003T160000
DTSTAMP:20260419T150507
CREATED:20251208T193045Z
LAST-MODIFIED:20251208T193045Z
UID:10000378-1791021600-1791043200@www.16mm.org.uk
SUMMARY:All Day Steaming
DESCRIPTION:
URL:https://www.16mm.org.uk/event/all-day-steaming-7/2026-10-03/
LOCATION:de Stafford School\, Burntwood Lane\, Caterham\, Surrey\, CR3 5YX\, United Kingdom
GEO:51.2937033;-0.0787119
X-APPLE-STRUCTURED-LOCATION;VALUE=URI;X-ADDRESS=de Stafford School Burntwood Lane Caterham Surrey CR3 5YX United Kingdom;X-APPLE-RADIUS=500;X-TITLE=Burntwood Lane:geo:-0.0787119,51.2937033
END:VEVENT
END:VCALENDAR