BEGIN:VCALENDAR
VERSION:2.0
PRODID:-//Association of 16mm Narrow Gauge Modellers - ECPv6.15.20//NONSGML v1.0//EN
CALSCALE:GREGORIAN
METHOD:PUBLISH
X-WR-CALNAME:Association of 16mm Narrow Gauge Modellers
X-ORIGINAL-URL:https://www.16mm.org.uk
X-WR-CALDESC:Events for Association of 16mm Narrow Gauge Modellers
REFRESH-INTERVAL;VALUE=DURATION:PT1H
X-Robots-Tag:noindex
X-PUBLISHED-TTL:PT1H
BEGIN:VTIMEZONE
TZID:Europe/London
BEGIN:DAYLIGHT
TZOFFSETFROM:+0000
TZOFFSETTO:+0100
TZNAME:BST
DTSTART:20250330T010000
END:DAYLIGHT
BEGIN:STANDARD
TZOFFSETFROM:+0100
TZOFFSETTO:+0000
TZNAME:GMT
DTSTART:20251026T010000
END:STANDARD
BEGIN:DAYLIGHT
TZOFFSETFROM:+0000
TZOFFSETTO:+0100
TZNAME:BST
DTSTART:20260329T010000
END:DAYLIGHT
BEGIN:STANDARD
TZOFFSETFROM:+0100
TZOFFSETTO:+0000
TZNAME:GMT
DTSTART:20261025T010000
END:STANDARD
BEGIN:DAYLIGHT
TZOFFSETFROM:+0000
TZOFFSETTO:+0100
TZNAME:BST
DTSTART:20270328T010000
END:DAYLIGHT
BEGIN:STANDARD
TZOFFSETFROM:+0100
TZOFFSETTO:+0000
TZNAME:GMT
DTSTART:20271031T010000
END:STANDARD
END:VTIMEZONE
BEGIN:VEVENT
DTSTART;TZID=Europe/London:20260425T093000
DTEND;TZID=Europe/London:20260425T170000
DTSTAMP:20260419T183500
CREATED:20250527T180513Z
LAST-MODIFIED:20250527T180513Z
UID:10000364-1777109400-1777136400@www.16mm.org.uk
SUMMARY:National Garden Railway Show 2026
DESCRIPTION:
URL:https://www.16mm.org.uk/event/national-garden-railway-show-2026/
LOCATION:Stoneleigh Park\, NAEC Stoneleigh Park\, Kenilworth\, CV8 2LH\, United Kingdom
END:VEVENT
BEGIN:VEVENT
DTSTART;TZID=Europe/London:20260516T100000
DTEND;TZID=Europe/London:20260516T160000
DTSTAMP:20260419T183500
CREATED:20260321T211752Z
LAST-MODIFIED:20260321T211752Z
UID:10000382-1778925600-1778947200@www.16mm.org.uk
SUMMARY:Porthmadog Model Railway Show and Workshop
DESCRIPTION:
URL:https://www.16mm.org.uk/event/porthmadog-model-railway-show-and-workshop/2026-05-16/
LOCATION:Y Ganolfan\, High Street\, Porthmadog\, Gwynedd\, LL49 9LU
END:VEVENT
BEGIN:VEVENT
DTSTART;TZID=Europe/London:20260516T140000
DTEND;TZID=Europe/London:20260516T173000
DTSTAMP:20260419T183500
CREATED:20260304T202518Z
LAST-MODIFIED:20260304T202518Z
UID:10000381-1778940000-1778952600@www.16mm.org.uk
SUMMARY:Brambleton Model Railway Club public open day
DESCRIPTION:
URL:https://www.16mm.org.uk/event/brambleton-model-railway-club-public-open-day/
LOCATION:Brambleton Model Railway Club\, Highfield Oval\, Ambrose Lane\, Harpenden\, Hertfordshire\, AL5 4BX\, United Kingdom
GEO:51.8254324;-0.3616143
X-APPLE-STRUCTURED-LOCATION;VALUE=URI;X-ADDRESS=Brambleton Model Railway Club Highfield Oval Ambrose Lane Harpenden Hertfordshire AL5 4BX United Kingdom;X-APPLE-RADIUS=500;X-TITLE=Highfield Oval\, Ambrose Lane:geo:-0.3616143,51.8254324
END:VEVENT
BEGIN:VEVENT
DTSTART;TZID=Europe/London:20260517T100000
DTEND;TZID=Europe/London:20260517T160000
DTSTAMP:20260419T183500
CREATED:20260321T211752Z
LAST-MODIFIED:20260321T211752Z
UID:10000383-1779012000-1779033600@www.16mm.org.uk
SUMMARY:Porthmadog Model Railway Show and Workshop
DESCRIPTION:
URL:https://www.16mm.org.uk/event/porthmadog-model-railway-show-and-workshop/2026-05-17/
LOCATION:Y Ganolfan\, High Street\, Porthmadog\, Gwynedd\, LL49 9LU
END:VEVENT
BEGIN:VEVENT
DTSTART;TZID=Europe/London:20260905T100000
DTEND;TZID=Europe/London:20260905T160000
DTSTAMP:20260419T183500
CREATED:20260304T201755Z
LAST-MODIFIED:20260304T201755Z
UID:10000379-1788602400-1788624000@www.16mm.org.uk
SUMMARY:Llanfair Garden Railway Show
DESCRIPTION:
URL:https://www.16mm.org.uk/event/llanfair-garden-railway-show-5/
LOCATION:Llanfair Caereinion Leisure Centre\, Llanfair Caereinion\, Welshpool\, SY21 0HW\, United Kingdom
GEO:52.650957;-3.3264171
X-APPLE-STRUCTURED-LOCATION;VALUE=URI;X-ADDRESS=Llanfair Caereinion Leisure Centre Llanfair Caereinion Welshpool SY21 0HW United Kingdom;X-APPLE-RADIUS=500;X-TITLE=Llanfair Caereinion:geo:-3.3264171,52.650957
END:VEVENT
BEGIN:VEVENT
DTSTART;TZID=Europe/London:20261003T100000
DTEND;TZID=Europe/London:20261003T160000
DTSTAMP:20260419T183500
CREATED:20251208T193045Z
LAST-MODIFIED:20251208T193045Z
UID:10000378-1791021600-1791043200@www.16mm.org.uk
SUMMARY:All Day Steaming
DESCRIPTION:
URL:https://www.16mm.org.uk/event/all-day-steaming-7/2026-10-03/
LOCATION:de Stafford School\, Burntwood Lane\, Caterham\, Surrey\, CR3 5YX\, United Kingdom
GEO:51.2937033;-0.0787119
X-APPLE-STRUCTURED-LOCATION;VALUE=URI;X-ADDRESS=de Stafford School Burntwood Lane Caterham Surrey CR3 5YX United Kingdom;X-APPLE-RADIUS=500;X-TITLE=Burntwood Lane:geo:-0.0787119,51.2937033
END:VEVENT
BEGIN:VEVENT
DTSTART;TZID=Europe/London:20261024T103000
DTEND;TZID=Europe/London:20261024T163000
DTSTAMP:20260419T183500
CREATED:20260304T202217Z
LAST-MODIFIED:20260304T202217Z
UID:10000380-1792837800-1792859400@www.16mm.org.uk
SUMMARY:Exeter Garden Railway Show
DESCRIPTION:
URL:https://www.16mm.org.uk/event/exeter-garden-railway-show-11/
LOCATION:The Matford Centre\, Matford Park Road\, Marsh Barton Ind Estate\, Exeter\, EX2 8FD\, United Kingdom
ORGANIZER;CN="South Devon Garden Railway Group":MAILTO:show.coordinator@sdgrg.org.uk
GEO:50.7058455;-3.5307536
X-APPLE-STRUCTURED-LOCATION;VALUE=URI;X-ADDRESS=The Matford Centre Matford Park Road Marsh Barton Ind Estate Exeter EX2 8FD United Kingdom;X-APPLE-RADIUS=500;X-TITLE=Matford Park Road\, Marsh Barton Ind Estate:geo:-3.5307536,50.7058455
END:VEVENT
END:VCALENDAR